BEGIN:VCALENDAR
VERSION:2.0
PRODID:-//De Brug Huizen - ECPv6.15.20//NONSGML v1.0//EN
CALSCALE:GREGORIAN
METHOD:PUBLISH
X-WR-CALNAME:De Brug Huizen
X-ORIGINAL-URL:https://debrughuizen.nl
X-WR-CALDESC:Evenementen voor De Brug Huizen
REFRESH-INTERVAL;VALUE=DURATION:PT1H
X-Robots-Tag:noindex
X-PUBLISHED-TTL:PT1H
BEGIN:VTIMEZONE
TZID:Europe/Amsterdam
BEGIN:DAYLIGHT
TZOFFSETFROM:+0100
TZOFFSETTO:+0200
TZNAME:CEST
DTSTART:20220327T010000
END:DAYLIGHT
BEGIN:STANDARD
TZOFFSETFROM:+0200
TZOFFSETTO:+0100
TZNAME:CET
DTSTART:20221030T010000
END:STANDARD
BEGIN:DAYLIGHT
TZOFFSETFROM:+0100
TZOFFSETTO:+0200
TZNAME:CEST
DTSTART:20230326T010000
END:DAYLIGHT
BEGIN:STANDARD
TZOFFSETFROM:+0200
TZOFFSETTO:+0100
TZNAME:CET
DTSTART:20231029T010000
END:STANDARD
BEGIN:DAYLIGHT
TZOFFSETFROM:+0100
TZOFFSETTO:+0200
TZNAME:CEST
DTSTART:20240331T010000
END:DAYLIGHT
BEGIN:STANDARD
TZOFFSETFROM:+0200
TZOFFSETTO:+0100
TZNAME:CET
DTSTART:20241027T010000
END:STANDARD
END:VTIMEZONE
BEGIN:VEVENT
DTSTART;TZID=Europe/Amsterdam:20231104T080000
DTEND;TZID=Europe/Amsterdam:20231104T100000
DTSTAMP:20260423T164718
CREATED:20230923T102950Z
LAST-MODIFIED:20230923T102951Z
UID:10002367-1699084800-1699092000@debrughuizen.nl
SUMMARY:10 jaar De Brug: Mannenontbijt
DESCRIPTION:10 jaar De Brug: Mannenontbijt
URL:https://debrughuizen.nl/activiteit/10-jaar-de-brug-mannenontbijt/
LOCATION:Biebeltje – zij-ingang Vituskerk\, Hooghuizenweg 36\, Huizen\, Noord Holland\, 1272CA\, Nederland
CATEGORIES:Bijzondere activiteit
ATTACH;FMTTYPE=image/png:https://debrughuizen.nl/wp-content/uploads/10-jaar-De-Brug.png
END:VEVENT
BEGIN:VEVENT
DTSTART;TZID=Europe/Amsterdam:20231105T103000
DTEND;TZID=Europe/Amsterdam:20231105T113000
DTSTAMP:20260423T164718
CREATED:20230912T093616Z
LAST-MODIFIED:20230923T103110Z
UID:10001865-1699180200-1699183800@debrughuizen.nl
SUMMARY:10 jaar De Brug: Ontmoetingsdienst - Dankdienst 10 jaar De Brug
DESCRIPTION:Elke zondag ben je vanaf 10.00 uur welkom in de Ontmoetingsdienst in de Vituskerk in Huizen. Dit is een korte samenkomst voor zoekers en (pas)gelovigen waarin we samen zoeken naar de betekenis van het geloof voor deze tijd. Inloop is vanaf 10.00 uur en de dienst start om 10.30 uur. \nBenieuwd naar meer informatie en waar het deze zondag over gaat? Ga dan naar deze pagina.
URL:https://debrughuizen.nl/activiteit/ontmoetingsdienst-2-2-2/
LOCATION:Vituskerk\, Hooghuizenweg 36\, Huizen\, 1272CA
CATEGORIES:Diensten
ATTACH;FMTTYPE=image/png:https://debrughuizen.nl/wp-content/uploads/10-jaar-De-Brug.png
END:VEVENT
END:VCALENDAR