BEGIN:VCALENDAR
VERSION:2.0
PRODID:-//De Brug Huizen - ECPv6.15.20//NONSGML v1.0//EN
CALSCALE:GREGORIAN
METHOD:PUBLISH
X-ORIGINAL-URL:https://debrughuizen.nl
X-WR-CALDESC:Evenementen voor De Brug Huizen
REFRESH-INTERVAL;VALUE=DURATION:PT1H
X-Robots-Tag:noindex
X-PUBLISHED-TTL:PT1H
BEGIN:VTIMEZONE
TZID:Europe/Amsterdam
BEGIN:DAYLIGHT
TZOFFSETFROM:+0100
TZOFFSETTO:+0200
TZNAME:CEST
DTSTART:20220327T010000
END:DAYLIGHT
BEGIN:STANDARD
TZOFFSETFROM:+0200
TZOFFSETTO:+0100
TZNAME:CET
DTSTART:20221030T010000
END:STANDARD
BEGIN:DAYLIGHT
TZOFFSETFROM:+0100
TZOFFSETTO:+0200
TZNAME:CEST
DTSTART:20230326T010000
END:DAYLIGHT
BEGIN:STANDARD
TZOFFSETFROM:+0200
TZOFFSETTO:+0100
TZNAME:CET
DTSTART:20231029T010000
END:STANDARD
BEGIN:DAYLIGHT
TZOFFSETFROM:+0100
TZOFFSETTO:+0200
TZNAME:CEST
DTSTART:20240331T010000
END:DAYLIGHT
BEGIN:STANDARD
TZOFFSETFROM:+0200
TZOFFSETTO:+0100
TZNAME:CET
DTSTART:20241027T010000
END:STANDARD
END:VTIMEZONE
BEGIN:VEVENT
DTSTART;TZID=Europe/Amsterdam:20231014T200000
DTEND;TZID=Europe/Amsterdam:20231014T223000
DTSTAMP:20260423T152910
CREATED:20230912T093412Z
LAST-MODIFIED:20230923T101929Z
UID:10002354-1697313600-1697322600@debrughuizen.nl
SUMMARY:10 jaar De Brug: De Brug in concert 'Thank You'
DESCRIPTION:10 jaar De Brug: De Brug in Concert 2023 met als thema ‘Thank You’
URL:https://debrughuizen.nl/activiteit/brug-in-concert/
LOCATION:Vituskerk\, Hooghuizenweg 36\, Huizen\, 1272CA
CATEGORIES:Bijzondere activiteit
ATTACH;FMTTYPE=image/jpeg:https://debrughuizen.nl/wp-content/uploads/concert-3387324_1280.jpg
END:VEVENT
END:VCALENDAR