BEGIN:VCALENDAR
VERSION:2.0
PRODID:-//De Brug Huizen - ECPv6.15.20//NONSGML v1.0//EN
CALSCALE:GREGORIAN
METHOD:PUBLISH
X-WR-CALNAME:De Brug Huizen
X-ORIGINAL-URL:https://debrughuizen.nl
X-WR-CALDESC:Evenementen voor De Brug Huizen
REFRESH-INTERVAL;VALUE=DURATION:PT1H
X-Robots-Tag:noindex
X-PUBLISHED-TTL:PT1H
BEGIN:VTIMEZONE
TZID:Europe/Amsterdam
BEGIN:DAYLIGHT
TZOFFSETFROM:+0100
TZOFFSETTO:+0200
TZNAME:CEST
DTSTART:20240331T010000
END:DAYLIGHT
BEGIN:STANDARD
TZOFFSETFROM:+0200
TZOFFSETTO:+0100
TZNAME:CET
DTSTART:20241027T010000
END:STANDARD
BEGIN:DAYLIGHT
TZOFFSETFROM:+0100
TZOFFSETTO:+0200
TZNAME:CEST
DTSTART:20250330T010000
END:DAYLIGHT
BEGIN:STANDARD
TZOFFSETFROM:+0200
TZOFFSETTO:+0100
TZNAME:CET
DTSTART:20251026T010000
END:STANDARD
BEGIN:DAYLIGHT
TZOFFSETFROM:+0100
TZOFFSETTO:+0200
TZNAME:CEST
DTSTART:20260329T010000
END:DAYLIGHT
BEGIN:STANDARD
TZOFFSETFROM:+0200
TZOFFSETTO:+0100
TZNAME:CET
DTSTART:20261025T010000
END:STANDARD
END:VTIMEZONE
BEGIN:VEVENT
DTSTART;TZID=Europe/Amsterdam:20250120T193000
DTEND;TZID=Europe/Amsterdam:20250120T203000
DTSTAMP:20260422T140533
CREATED:20241127T075946Z
LAST-MODIFIED:20241127T075946Z
UID:10003903-1737401400-1737405000@debrughuizen.nl
SUMMARY:Internationale gebedsweek
DESCRIPTION:
URL:https://debrughuizen.nl/activiteit/internationale-gebedsweek/
LOCATION:Vituskerk\, Hooghuizenweg 36\, Huizen\, 1272CA
CATEGORIES:Activiteiten
END:VEVENT
END:VCALENDAR