BEGIN:VCALENDAR
VERSION:2.0
PRODID:-//De Brug Huizen - ECPv6.15.20//NONSGML v1.0//EN
CALSCALE:GREGORIAN
METHOD:PUBLISH
X-ORIGINAL-URL:https://debrughuizen.nl
X-WR-CALDESC:Evenementen voor De Brug Huizen
REFRESH-INTERVAL;VALUE=DURATION:PT1H
X-Robots-Tag:noindex
X-PUBLISHED-TTL:PT1H
BEGIN:VTIMEZONE
TZID:Europe/Amsterdam
BEGIN:DAYLIGHT
TZOFFSETFROM:+0100
TZOFFSETTO:+0200
TZNAME:CEST
DTSTART:20240331T010000
END:DAYLIGHT
BEGIN:STANDARD
TZOFFSETFROM:+0200
TZOFFSETTO:+0100
TZNAME:CET
DTSTART:20241027T010000
END:STANDARD
BEGIN:DAYLIGHT
TZOFFSETFROM:+0100
TZOFFSETTO:+0200
TZNAME:CEST
DTSTART:20250330T010000
END:DAYLIGHT
BEGIN:STANDARD
TZOFFSETFROM:+0200
TZOFFSETTO:+0100
TZNAME:CET
DTSTART:20251026T010000
END:STANDARD
BEGIN:DAYLIGHT
TZOFFSETFROM:+0100
TZOFFSETTO:+0200
TZNAME:CEST
DTSTART:20260329T010000
END:DAYLIGHT
BEGIN:STANDARD
TZOFFSETFROM:+0200
TZOFFSETTO:+0100
TZNAME:CET
DTSTART:20261025T010000
END:STANDARD
END:VTIMEZONE
BEGIN:VEVENT
DTSTART;TZID=Europe/Amsterdam:20251224T210000
DTEND;TZID=Europe/Amsterdam:20251224T220000
DTSTAMP:20260420T203105
CREATED:20250919T193735Z
LAST-MODIFIED:20250919T193736Z
UID:10004195-1766610000-1766613600@debrughuizen.nl
SUMMARY:A Taste of Christmas
DESCRIPTION:Op Kerstavond kan je bij De Brug een voorproefje krijgen voor kerst. Van harte welkom!
URL:https://debrughuizen.nl/activiteit/a-taste-of-christmas-2/
LOCATION:Ichthuskerk\, Kortenaerstraat 5\, Huizen\, 1271SP
CATEGORIES:Bijzondere activiteit
ATTACH;FMTTYPE=image/jpeg:https://debrughuizen.nl/wp-content/uploads/de-brug-huizen-home-kerst.jpg
END:VEVENT
END:VCALENDAR