BEGIN:VCALENDAR
VERSION:2.0
PRODID:-//De Brug Huizen - ECPv6.15.20//NONSGML v1.0//EN
CALSCALE:GREGORIAN
METHOD:PUBLISH
X-ORIGINAL-URL:https://debrughuizen.nl
X-WR-CALDESC:Evenementen voor De Brug Huizen
REFRESH-INTERVAL;VALUE=DURATION:PT1H
X-Robots-Tag:noindex
X-PUBLISHED-TTL:PT1H
BEGIN:VTIMEZONE
TZID:Europe/Amsterdam
BEGIN:DAYLIGHT
TZOFFSETFROM:+0100
TZOFFSETTO:+0200
TZNAME:CEST
DTSTART:20230326T010000
END:DAYLIGHT
BEGIN:STANDARD
TZOFFSETFROM:+0200
TZOFFSETTO:+0100
TZNAME:CET
DTSTART:20231029T010000
END:STANDARD
BEGIN:DAYLIGHT
TZOFFSETFROM:+0100
TZOFFSETTO:+0200
TZNAME:CEST
DTSTART:20240331T010000
END:DAYLIGHT
BEGIN:STANDARD
TZOFFSETFROM:+0200
TZOFFSETTO:+0100
TZNAME:CET
DTSTART:20241027T010000
END:STANDARD
BEGIN:DAYLIGHT
TZOFFSETFROM:+0100
TZOFFSETTO:+0200
TZNAME:CEST
DTSTART:20250330T010000
END:DAYLIGHT
BEGIN:STANDARD
TZOFFSETFROM:+0200
TZOFFSETTO:+0100
TZNAME:CET
DTSTART:20251026T010000
END:STANDARD
END:VTIMEZONE
BEGIN:VEVENT
DTSTART;TZID=Europe/Amsterdam:20241218T140000
DTEND;TZID=Europe/Amsterdam:20241218T160000
DTSTAMP:20260421T110548
CREATED:20241201T091124Z
LAST-MODIFIED:20241201T091124Z
UID:10003904-1734530400-1734537600@debrughuizen.nl
SUMMARY:Muzikale middag met het koor "Vergeet je verdriet"
DESCRIPTION:Een muzikale middag in de Brug met het koor “Vergeet je verdriet” onder leiding van Margreet Veerman
URL:https://debrughuizen.nl/activiteit/muzikale-middag-met-het-koor-vergeet-je-verdriet/
LOCATION:Vituskerk\, Hooghuizenweg 36\, Huizen\, 1272CA
CATEGORIES:Bijzondere activiteit
ATTACH;FMTTYPE=image/jpeg:https://debrughuizen.nl/wp-content/uploads/de-brug-huizen-home-kerst-1.jpg
END:VEVENT
END:VCALENDAR